BEGIN:VCALENDAR
VERSION:2.0
PRODID:-//Friends of the Animal Shelter | Aiken, SC - ECPv6.15.20//NONSGML v1.0//EN
CALSCALE:GREGORIAN
METHOD:PUBLISH
X-WR-CALNAME:Friends of the Animal Shelter | Aiken, SC
X-ORIGINAL-URL:https://www.fotasaiken.org
X-WR-CALDESC:Events for Friends of the Animal Shelter | Aiken, SC
REFRESH-INTERVAL;VALUE=DURATION:PT1H
X-Robots-Tag:noindex
X-PUBLISHED-TTL:PT1H
BEGIN:VTIMEZONE
TZID:America/New_York
BEGIN:DAYLIGHT
TZOFFSETFROM:-0500
TZOFFSETTO:-0400
TZNAME:EDT
DTSTART:20240310T070000
END:DAYLIGHT
BEGIN:STANDARD
TZOFFSETFROM:-0400
TZOFFSETTO:-0500
TZNAME:EST
DTSTART:20241103T060000
END:STANDARD
BEGIN:DAYLIGHT
TZOFFSETFROM:-0500
TZOFFSETTO:-0400
TZNAME:EDT
DTSTART:20250309T070000
END:DAYLIGHT
BEGIN:STANDARD
TZOFFSETFROM:-0400
TZOFFSETTO:-0500
TZNAME:EST
DTSTART:20251102T060000
END:STANDARD
BEGIN:DAYLIGHT
TZOFFSETFROM:-0500
TZOFFSETTO:-0400
TZNAME:EDT
DTSTART:20260308T070000
END:DAYLIGHT
BEGIN:STANDARD
TZOFFSETFROM:-0400
TZOFFSETTO:-0500
TZNAME:EST
DTSTART:20261101T060000
END:STANDARD
END:VTIMEZONE
BEGIN:VEVENT
DTSTART;TZID=America/New_York:20251220T120000
DTEND;TZID=America/New_York:20251220T140000
DTSTAMP:20260423T050531
CREATED:20251205T141851Z
LAST-MODIFIED:20251205T142207Z
UID:12011-1766232000-1766239200@www.fotasaiken.org
SUMMARY:Good Girl Brewing Company
DESCRIPTION:Join us! \nAdoptable dogs will be visiting the Good Girl Brewing Company.
URL:https://www.fotasaiken.org/event/good-girl-brewing-company/
LOCATION:Good Girl Brewing Co.\, 880 Banks Mill Road\, Aiken\, SC\, 29801\, United States
ORGANIZER;CN="FOTAS Aiken":MAILTO:info@fotasaiken.org
END:VEVENT
BEGIN:VEVENT
DTSTART;TZID=America/New_York:20251110T073000
DTEND;TZID=America/New_York:20251110T120000
DTSTAMP:20260423T050531
CREATED:20240404T201821Z
LAST-MODIFIED:20251112T203515Z
UID:9711-1762759800-1762776000@www.fotasaiken.org
SUMMARY:FOTAS' Annual Helicopter Ball Drop & Playing Fore the Pets Golf Tournament
DESCRIPTION:All proceeds benefit the Aiken County Animal Shelter. Thank you for playing!\nRain Date: Monday\, November 10\, 2025 $125 per golfer. Register now! Sponsorship opportunities available. \nSee complete details
URL:https://www.fotasaiken.org/event/playing-fore-the-pets-golf-tournament/
LOCATION:The Reserve Club At Woodside\, 3000 The Reserve Club Dr\, Aiken\, SC\, 29803\, United States
CATEGORIES:Fundraisers
ATTACH;FMTTYPE=image/jpeg:https://www.fotasaiken.org/wp-content/uploads/2024/04/FOTAS-Aiken-2025-Golf-Tournament-e.jpg
ORGANIZER;CN="FOTAS Aiken":MAILTO:info@fotasaiken.org
END:VEVENT
BEGIN:VEVENT
DTSTART;TZID=America/New_York:20250927T080000
DTEND;TZID=America/New_York:20250927T130000
DTSTAMP:20260423T050531
CREATED:20250820T153612Z
LAST-MODIFIED:20250908T181332Z
UID:11809-1758960000-1758978000@www.fotasaiken.org
SUMMARY:Furry 5K & 1-Mile Fun Run
DESCRIPTION:Register now! This race will benefit FOTAS Aiken.
URL:https://www.fotasaiken.org/event/furry-5k-1-mile-fun-run/
LOCATION:Generations Park\, 700 Mack Henry Holland Dr\, Aiken\, SC\, 29801\, United States
CATEGORIES:Fundraisers
ATTACH;FMTTYPE=image/png:https://www.fotasaiken.org/wp-content/uploads/2025/08/FOTAS-5K-e1755710601174.png
ORGANIZER;CN="FOTAS Aiken":MAILTO:info@fotasaiken.org
END:VEVENT
BEGIN:VEVENT
DTSTART;TZID=America/New_York:20250809T110000
DTEND;TZID=America/New_York:20250809T150000
DTSTAMP:20260423T050531
CREATED:20250722T075520Z
LAST-MODIFIED:20250804T171741Z
UID:10808-1754737200-1754751600@www.fotasaiken.org
SUMMARY:2025 Clear the Shelter! Adoption Event
DESCRIPTION:Adoption Fee = $0 Dogs & $0 Cats!\nPlease bring leash/collar or cat carrier.\nWe are proud participants of NBCUniversal Local’s annual Clear the Shelter Event!
URL:https://www.fotasaiken.org/event/2025-clear-the-shelter-event/
LOCATION:Aiken County Animal Shelter\, 333 Wire Road\, Aiken\, SC\, 29801\, United States
CATEGORIES:Adoption Events
ATTACH;FMTTYPE=image/jpeg:https://www.fotasaiken.org/wp-content/uploads/2025/07/FOTAS-Aiken-2025-Clear-the-Shelter-e.jpg
ORGANIZER;CN="FOTAS Aiken":MAILTO:info@fotasaiken.org
END:VEVENT
BEGIN:VEVENT
DTSTART;TZID=America/New_York:20250725T130000
DTEND;TZID=America/New_York:20250725T150000
DTSTAMP:20260423T050531
CREATED:20250722T180123Z
LAST-MODIFIED:20250722T180123Z
UID:10833-1753448400-1753455600@www.fotasaiken.org
SUMMARY:PetSmart Adoption Event
DESCRIPTION:Volunteers will be bringing adoptable dogs to PetSmart on Whiskey Road this Friday! Wonderful vendors will be there to support this event\, and we hope that many will come and enjoy a fun event!\nVendors include Hometown Grounds\, Ironhead Barbeque\, & Nothing Bundt Cakes.
URL:https://www.fotasaiken.org/event/petsmart-adoption-event/
LOCATION:PetSmart\, 2527 Whiskey Rd\, Aiken\, SC\, 29803\, United States
CATEGORIES:Adoption Events
ORGANIZER;CN="FOTAS Aiken":MAILTO:info@fotasaiken.org
END:VEVENT
END:VCALENDAR