BEGIN:VCALENDAR
VERSION:2.0
PRODID:-//Friends of the Animal Shelter | Aiken, SC - ECPv6.15.20//NONSGML v1.0//EN
CALSCALE:GREGORIAN
METHOD:PUBLISH
X-WR-CALNAME:Friends of the Animal Shelter | Aiken, SC
X-ORIGINAL-URL:https://www.fotasaiken.org
X-WR-CALDESC:Events for Friends of the Animal Shelter | Aiken, SC
REFRESH-INTERVAL;VALUE=DURATION:PT1H
X-Robots-Tag:noindex
X-PUBLISHED-TTL:PT1H
BEGIN:VTIMEZONE
TZID:America/New_York
BEGIN:DAYLIGHT
TZOFFSETFROM:-0500
TZOFFSETTO:-0400
TZNAME:EDT
DTSTART:20240310T070000
END:DAYLIGHT
BEGIN:STANDARD
TZOFFSETFROM:-0400
TZOFFSETTO:-0500
TZNAME:EST
DTSTART:20241103T060000
END:STANDARD
BEGIN:DAYLIGHT
TZOFFSETFROM:-0500
TZOFFSETTO:-0400
TZNAME:EDT
DTSTART:20250309T070000
END:DAYLIGHT
BEGIN:STANDARD
TZOFFSETFROM:-0400
TZOFFSETTO:-0500
TZNAME:EST
DTSTART:20251102T060000
END:STANDARD
BEGIN:DAYLIGHT
TZOFFSETFROM:-0500
TZOFFSETTO:-0400
TZNAME:EDT
DTSTART:20260308T070000
END:DAYLIGHT
BEGIN:STANDARD
TZOFFSETFROM:-0400
TZOFFSETTO:-0500
TZNAME:EST
DTSTART:20261101T060000
END:STANDARD
END:VTIMEZONE
BEGIN:VEVENT
DTSTART;TZID=America/New_York:20250927T080000
DTEND;TZID=America/New_York:20250927T130000
DTSTAMP:20260423T062549
CREATED:20250820T153612Z
LAST-MODIFIED:20250908T181332Z
UID:11809-1758960000-1758978000@www.fotasaiken.org
SUMMARY:Furry 5K & 1-Mile Fun Run
DESCRIPTION:Register now! This race will benefit FOTAS Aiken.
URL:https://www.fotasaiken.org/event/furry-5k-1-mile-fun-run/
LOCATION:Generations Park\, 700 Mack Henry Holland Dr\, Aiken\, SC\, 29801\, United States
CATEGORIES:Fundraisers
ATTACH;FMTTYPE=image/png:https://www.fotasaiken.org/wp-content/uploads/2025/08/FOTAS-5K-e1755710601174.png
ORGANIZER;CN="FOTAS Aiken":MAILTO:info@fotasaiken.org
END:VEVENT
END:VCALENDAR